BEGIN:VCALENDAR
VERSION:2.0
PRODID:-//Rhein Ruhr Power e.V. - ECPv6.0.8//NONSGML v1.0//EN
CALSCALE:GREGORIAN
METHOD:PUBLISH
X-ORIGINAL-URL:https://rhein-ruhr-power.net
X-WR-CALDESC:Veranstaltungen für Rhein Ruhr Power e.V.
REFRESH-INTERVAL;VALUE=DURATION:PT1H
X-Robots-Tag:noindex
X-PUBLISHED-TTL:PT1H
BEGIN:VTIMEZONE
TZID:Europe/Berlin
BEGIN:DAYLIGHT
TZOFFSETFROM:+0100
TZOFFSETTO:+0200
TZNAME:CEST
DTSTART:20150329T010000
END:DAYLIGHT
BEGIN:STANDARD
TZOFFSETFROM:+0200
TZOFFSETTO:+0100
TZNAME:CET
DTSTART:20151025T010000
END:STANDARD
END:VTIMEZONE
BEGIN:VEVENT
DTSTART;TZID=Europe/Berlin:20151103T173000
DTEND;TZID=Europe/Berlin:20151103T193000
DTSTAMP:20260420T053034
CREATED:20150915T141434Z
LAST-MODIFIED:20180719T130802Z
UID:1868-1446571800-1446579000@rhein-ruhr-power.net
SUMMARY:Flexible Kraftwerke für die Energiewende
DESCRIPTION:In Deutschland geht der Ausbau von erneuerbaren Energien voran\, während die Installation von kapazitätsstarken Stromspeichern nicht folgen kann. Hierfür müssen Dampfkraftwerke auf Basis von Gas und Kohle wichtige Netzregelaufgaben wahrnehmen. Sie sind damit unverzichtbare Partner der erneuerbaren Energien. \nBestehende thermische Kraftwerke sind für den hochflexiblen Betrieb zum Ausgleich der fluktuierenden Einspeisung aus Erneuerbaren nur bedingt geeignet. Um dies zukünftig deutlich zu verbessern\, müssen Bestandskraftwerke dahingehend modifiziert und leistungsfähige Neubauten realisiert werden. \nWelche Eigenschaften müssen die Kraftwerke dafür haben? Sie müssen schnell hoch und runter fahren können\, müssen bei extremen Mindestlasten betrieben werden können und sollten bei niedrigen Lasten möglichst hohe Wirkungsgrade aufweisen. Und das alles bei höchst möglicher Umweltverträglichkeit und Wirtschaftlichkeit. \nMit dem Verbundprojekt Partner-Dampfkraftwerk\, liefert Rhein Ruhr Power die ersten Antworten auf diese Frage. In diesem für die Energiewende wichtigen Forschungs­vorhaben wurden neue technische Konzepte entwickelt\, um damit Bestandskraftwerke so zu ertüchtigen\, dass diese die schwankenden Stromeinspeisungen aus Wind- oder Photovoltaikanlagen noch besser ausregeln und damit die Versorgungssicherheit zuverlässig gewährleisten können. \nWir laden Sie herz­lich zu einer offe­nen Dis­kus­sion ein und freuen uns\, Sie in Ber­lin begrü­ßen zu dürfen. \n\nPro­gramm:  Den Ein­la­dungs­flyer samt Pro­gramm fin­den Sie hier. \n\nAnmel­dung: Um sich für die Ver­an­stal­tung anzu­mel­den\, kli­cken Sie bitte hier. \n  \nDas aus­ge­füllte Anmel­de­for­mu­lar schi­cken Sie bitte bis zum 26. Okto­ber 2015 \nper E-Mail an maibach@rhein-ruhr-power.net oder \nper Fax an + 49 211 866 42–22. \n\n  \n    \nShe is 6 years old\, she has blond hair\, brown eyes\, paper writting and brown skin
URL:https://rhein-ruhr-power.net/termine/flexible-kraftwerke-fuer-die-energiewende/2015-11-03/
LOCATION:Vertretung des Landes Nordrhein-Westfalen beim Bund\, Hiroshimastr. 12-16\, Berlin\, Berlin\, 10785\, DE
ATTACH;FMTTYPE=image/jpeg:https://rhein-ruhr-power.net/wp/wp-content/uploads/2015/09/18627570565-15474422.jpg
GEO:52.50844;13.35802
X-APPLE-STRUCTURED-LOCATION;VALUE=URI;X-ADDRESS=Vertretung des Landes Nordrhein-Westfalen beim Bund Hiroshimastr. 12-16 Berlin Berlin 10785 DE;X-APPLE-RADIUS=500;X-TITLE=Hiroshimastr. 12-16:geo:13.35802,52.50844
END:VEVENT
END:VCALENDAR