BEGIN:VCALENDAR
VERSION:2.0
PRODID:-//Rhein Ruhr Power e.V. - ECPv6.0.8//NONSGML v1.0//EN
CALSCALE:GREGORIAN
METHOD:PUBLISH
X-WR-CALNAME:Rhein Ruhr Power e.V.
X-ORIGINAL-URL:https://rhein-ruhr-power.net
X-WR-CALDESC:Veranstaltungen für Rhein Ruhr Power e.V.
REFRESH-INTERVAL;VALUE=DURATION:PT1H
X-Robots-Tag:noindex
X-PUBLISHED-TTL:PT1H
BEGIN:VTIMEZONE
TZID:Europe/Berlin
BEGIN:DAYLIGHT
TZOFFSETFROM:+0100
TZOFFSETTO:+0200
TZNAME:CEST
DTSTART:20210328T010000
END:DAYLIGHT
BEGIN:STANDARD
TZOFFSETFROM:+0200
TZOFFSETTO:+0100
TZNAME:CET
DTSTART:20211031T010000
END:STANDARD
BEGIN:DAYLIGHT
TZOFFSETFROM:+0100
TZOFFSETTO:+0200
TZNAME:CEST
DTSTART:20220327T010000
END:DAYLIGHT
BEGIN:STANDARD
TZOFFSETFROM:+0200
TZOFFSETTO:+0100
TZNAME:CET
DTSTART:20221030T010000
END:STANDARD
BEGIN:DAYLIGHT
TZOFFSETFROM:+0100
TZOFFSETTO:+0200
TZNAME:CEST
DTSTART:20230326T010000
END:DAYLIGHT
BEGIN:STANDARD
TZOFFSETFROM:+0200
TZOFFSETTO:+0100
TZNAME:CET
DTSTART:20231029T010000
END:STANDARD
END:VTIMEZONE
BEGIN:VEVENT
DTSTART;TZID=Europe/Berlin:20210301T163000
DTEND;TZID=Europe/Berlin:20210301T183000
DTSTAMP:20260419T150149
CREATED:20210218T202623Z
LAST-MODIFIED:20210218T202707Z
UID:5652-1614616200-1614623400@rhein-ruhr-power.net
SUMMARY:Vortragsreihe RRP Top Thema (Nur für Mitglieder)
DESCRIPTION:Der Rhein Ruhr Power Verein lädt seine Mitglieder herzlich zu einem neuem Online-Vortrag der Veranstaltungsreihe „RRP Top Thema“ ein. \nFreuen Sie sich auf das Top Thema Redispatch 2.0\, vorgetragen von Herrn Andreas Stephan (SPRINT! Energy Consulting GmbH).
URL:https://rhein-ruhr-power.net/termine/vortragsreihe-rrp-top-thema-nur-fuer-mitglieder/
LOCATION:Online-Veranstaltung
END:VEVENT
BEGIN:VEVENT
DTSTART;TZID=Europe/Berlin:20211116T160000
DTEND;TZID=Europe/Berlin:20211116T180000
DTSTAMP:20260419T150149
CREATED:20211129T084523Z
LAST-MODIFIED:20211129T084523Z
UID:5886-1637078400-1637085600@rhein-ruhr-power.net
SUMMARY:RRP Top Thema – Online
DESCRIPTION:Der Rhein Ruhr Power Verein lädt seine Mitglieder herzlich zu einem neuem Online-Vortrag der Veranstaltungsreihe „RRP Top Thema“ ein. \nFreuen Sie sich auf das Top Thema: \n„Wasserstoff in der zukünftigen Energieversorgung“\, vorgetragen von Herrn Holger Gassner (BDEW e.V.). \nDer Vortrag beleuchtet die Frage\, welche Rolle Wasserstoff in der zukünftigen Energieversorgung spielen kann bzw. muss\, um die angestrebte Klimaneutralität bis 2045 zu erreichen. Welche Einsatzmöglichkeiten bestehen und welche Rahmenbedingungen gibt es für Wasserstoff? Was ist zu tun\, damit Wasserstoff Teil des zukünftigen Energiesystems wird.
URL:https://rhein-ruhr-power.net/termine/rrp-top-thema-online-2/
LOCATION:Online-Veranstaltung
ATTACH;FMTTYPE=image/png:https://rhein-ruhr-power.net/wp/wp-content/uploads/2014/06/RRP.png
END:VEVENT
BEGIN:VEVENT
DTSTART;TZID=Europe/Berlin:20211213T150000
DTEND;TZID=Europe/Berlin:20211213T170000
DTSTAMP:20260419T150149
CREATED:20211208T150212Z
LAST-MODIFIED:20211208T150252Z
UID:5905-1639407600-1639414800@rhein-ruhr-power.net
SUMMARY:RRP Top Thema – Online
DESCRIPTION:Der Rhein Ruhr Power Verein lädt seine Mitglieder herzlich zu einem neuem Online-Vortrag der Veranstaltungsreihe „RRP Top Thema“ ein. \nFreuen Sie sich auf das Top Thema: \n„3D-Druckzentrum im DuisPort“\, vorgetragen von Herrn Prof. Dr. Gerd Witt und Herrn Dr. Stefan Kleszczynski (beide Universität Duisburg-Essen). \nDer Ausstieg aus der Steinkohleverstromung stellt die betroffenen Regionen vor die Herausforderung eines ambitionierten Transformationsprozesses. Durch das Strukturstärkungsgesetzt\, welches im August 2020 durch den Bundestag verabschiedet wurde\, sollen Maßnahmen und Projekte gefördert werden\, die diesen Prozess unterstützen. Für das Ruhrgebiet werden in den nächsten Wochen und Monaten im Rahmen des sog. „5-StandorteProgramms“ Projektideen erarbeitet\, die u.a. das Ziel haben\, innovativen Technologien in der Region zu implementieren\, um hierdurch neue und höherwertige Wertschöpfung und Beschäftigung zu stimulieren. Ein vom Lehrstuhl Fertigungstechnik der Universität Duisburg-Essen gemeinsam mit der duisport AG und der Stadt Duisburg erarbeiteter Projektvorschlag thematisiert die Potenziale einer digitalen und dezentralen Fertigungsstrategie\, bei welcher insbesondere additive Fertigungsverfahren („3D Druck Verfahren“) dazu genutzt werden sollen um Ersatzteile\, Prototypen oder neuartige geometrisch-funktionale Komponenten herzustellen. Die Additive Fertigung vermag hierbei zur Digitalisierung der Produktions- und Instandhaltungsprozesse\, zur Verkürzung und Optimierung von Lieferketten sowie zur nachhaltigen und klimaschonenden Wertschöpfung beizutragen. Das Schichtbauprinzip additiver Fertigungsverfahren ermöglicht es zudem komplexe Strukturen herzustellen\, die z. B. in der Verfahrenstechnik\, der H2-Elektrolyse oder der Batterietechnik eingesetzt werden könnten. \nDie hohe Komplexität der einzelnen additiven Prozessschritte und der vergleichsweise geringe technologische Reifegrad erschweren die industrielle Nutzung dieser vielversprechenden Fertigungsverfahren. Durch ein im Rahmen des Projektvorschlags beantragtes Technologiezentrum am Standort Duisburg soll diesen Handlungsfeldern begegnet werden. Neben der Errichtung und Betreuung des Technologiezentrums\, welches mit Industrie-relevanten Anlagen zur Additiven Fertigung ausgestattet werden soll\, sind auch Initialprojekte vorgesehen\, in denen eine aktive Mitwirkung und Förderung von regional ansässigen Industrieunternehmen explizit erwünscht ist.
URL:https://rhein-ruhr-power.net/termine/rrp-top-thema-online-3/
LOCATION:Online-Veranstaltung
ATTACH;FMTTYPE=image/png:https://rhein-ruhr-power.net/wp/wp-content/uploads/2014/06/RRP.png
END:VEVENT
BEGIN:VEVENT
DTSTART;TZID=Europe/Berlin:20220407T160000
DTEND;TZID=Europe/Berlin:20220407T180000
DTSTAMP:20260419T150149
CREATED:20220401T103356Z
LAST-MODIFIED:20220401T103356Z
UID:6033-1649347200-1649354400@rhein-ruhr-power.net
SUMMARY:RRP Top Thema – Online
DESCRIPTION:Der Rhein Ruhr Power Verein lädt seine Mitglieder herzlich zu einem neuem Online-Vortrag der Veranstaltungsreihe „RRP Top Thema“ ein. \nFreuen Sie sich auf das Top Thema: \n„Die Zukunft des Energieträgers Gas im Lichte der Ukraine/Rußland-Krise“\, vorgetragen von Herrn Prof. Dr. Gerald Linke\, Vorstandsvorsitzender/CEO des DVGW. \nDie Veranstaltung findet statt am \n7. April 2022  \n16:00 bis 18:00 Uhr \nDie Veranstaltung wird online über Teams durchgeführt. Die Teilnahme ist kostenfrei.
URL:https://rhein-ruhr-power.net/termine/rrp-top-thema-online-4/
LOCATION:Online-Veranstaltung
END:VEVENT
BEGIN:VEVENT
DTSTART;TZID=Europe/Berlin:20230525T163000
DTEND;TZID=Europe/Berlin:20230525T173000
DTSTAMP:20260419T150149
CREATED:20230509T101434Z
LAST-MODIFIED:20230509T142221Z
UID:7234-1685032200-1685035800@rhein-ruhr-power.net
SUMMARY:RRP Top Thema: online (nur auf Einladung!)
DESCRIPTION:  \nDirect and indirect ammonia use for electricity & heat generation in Japan \nDr.-Ing. Torsten Buddenberg\, Project Manager Electrolyser & Heat Pumps\nMitsubishi Heavy Industries EMEA Ltd. \nDie Veranstaltung wird online über Teams durchgeführt und ist kostenfrei. Teilnahme nur auf Einladung.
URL:https://rhein-ruhr-power.net/termine/rrp-top-thema-online-7/
LOCATION:Online-Veranstaltung
END:VEVENT
END:VCALENDAR