BEGIN:VCALENDAR
VERSION:2.0
PRODID:-//Rhein Ruhr Power e.V. - ECPv6.0.8//NONSGML v1.0//EN
CALSCALE:GREGORIAN
METHOD:PUBLISH
X-WR-CALNAME:Rhein Ruhr Power e.V.
X-ORIGINAL-URL:https://rhein-ruhr-power.net
X-WR-CALDESC:Veranstaltungen für Rhein Ruhr Power e.V.
REFRESH-INTERVAL;VALUE=DURATION:PT1H
X-Robots-Tag:noindex
X-PUBLISHED-TTL:PT1H
BEGIN:VTIMEZONE
TZID:Europe/Berlin
BEGIN:DAYLIGHT
TZOFFSETFROM:+0100
TZOFFSETTO:+0200
TZNAME:CEST
DTSTART:20140330T010000
END:DAYLIGHT
BEGIN:STANDARD
TZOFFSETFROM:+0200
TZOFFSETTO:+0100
TZNAME:CET
DTSTART:20141026T010000
END:STANDARD
END:VTIMEZONE
BEGIN:VEVENT
DTSTART;VALUE=DATE:20140917
DTEND;VALUE=DATE:20140919
DTSTAMP:20260422T132135
CREATED:20140805T130705Z
LAST-MODIFIED:20180719T130753Z
UID:1124-1410912000-1411084799@rhein-ruhr-power.net
SUMMARY:VGB-Kongress „Kraftwerke 2014“ mit Fachausstellung
DESCRIPTION:Im kommenden Jahr findet der VGB-Kongress „Kraftwerke 2014“ mit begleitender Fachausstellung in Hamburg statt. Es wird ein Vortragsprogramm zu aktuellen Themen und ein attraktives Rahmenprogramm geboten. \n   \nI knew that this project was going to take us in unexpected directions\, and there is no doubt https://topadmissionessay.com/ that it has
URL:https://rhein-ruhr-power.net/termine/vgb-kongress-kraftwerke-2014-mit-fachausstellung/2014-09-17/
END:VEVENT
END:VCALENDAR