BEGIN:VCALENDAR
VERSION:2.0
PRODID:-//Rhein Ruhr Power e.V. - ECPv6.0.8//NONSGML v1.0//EN
CALSCALE:GREGORIAN
METHOD:PUBLISH
X-WR-CALNAME:Rhein Ruhr Power e.V.
X-ORIGINAL-URL:https://rhein-ruhr-power.net
X-WR-CALDESC:Veranstaltungen für Rhein Ruhr Power e.V.
REFRESH-INTERVAL;VALUE=DURATION:PT1H
X-Robots-Tag:noindex
X-PUBLISHED-TTL:PT1H
BEGIN:VTIMEZONE
TZID:Europe/Berlin
BEGIN:DAYLIGHT
TZOFFSETFROM:+0100
TZOFFSETTO:+0200
TZNAME:CEST
DTSTART:20250330T010000
END:DAYLIGHT
BEGIN:STANDARD
TZOFFSETFROM:+0200
TZOFFSETTO:+0100
TZNAME:CET
DTSTART:20251026T010000
END:STANDARD
END:VTIMEZONE
BEGIN:VEVENT
DTSTART;TZID=Europe/Berlin:20250206T140000
DTEND;TZID=Europe/Berlin:20250206T170000
DTSTAMP:20260421T201850
CREATED:20241217T111357Z
LAST-MODIFIED:20241217T111554Z
UID:9172-1738850400-1738861200@rhein-ruhr-power.net
SUMMARY:Aktuelle Rahmenbedingungen von Wärmenetzen –  Wo geht die Reise hin?
DESCRIPTION:Workshop\nAktuelle Rahmenbedingungen von Wärmenetzen – Wo geht die Reise hin?  \nam 6. Februar 2025\, 14:00 – 17:00 Uhr\nbeim GWI Essen e.V.\, Hafenstr. 101\, 45356 Essen \nZum Workshop haben wir Fachleute aus dem NRW-Wirtschaftsministerium und NRW.Energy4Climate sowie aus Fernwärmeunternehmen aus NRW eingeladen\, um gemeinsam mit Ihnen die Anforderungen des aktuellen Rechtsrahmens und deren Einfluss auf Umsetzungsprojekte zu diskutieren. Die Agenda ist dieser Mail beigefügt. \nAnmeldefrist: 3. Februar 2025
URL:https://rhein-ruhr-power.net/termine/aktuelle-rahmenbedingungen-von-waermenetzen-wo-geht-die-reise-hin/
LOCATION:Gas- und Wärme-Institut Essen e.V.\, Hafenstraße 101\, Essen\, 45356\, Deutschland
END:VEVENT
END:VCALENDAR