BEGIN:VCALENDAR
VERSION:2.0
PRODID:-//Rhein Ruhr Power e.V. - ECPv6.0.8//NONSGML v1.0//EN
CALSCALE:GREGORIAN
METHOD:PUBLISH
X-WR-CALNAME:Rhein Ruhr Power e.V.
X-ORIGINAL-URL:https://rhein-ruhr-power.net
X-WR-CALDESC:Veranstaltungen für Rhein Ruhr Power e.V.
REFRESH-INTERVAL;VALUE=DURATION:PT1H
X-Robots-Tag:noindex
X-PUBLISHED-TTL:PT1H
BEGIN:VTIMEZONE
TZID:Europe/Berlin
BEGIN:DAYLIGHT
TZOFFSETFROM:+0100
TZOFFSETTO:+0200
TZNAME:CEST
DTSTART:20180325T010000
END:DAYLIGHT
BEGIN:STANDARD
TZOFFSETFROM:+0200
TZOFFSETTO:+0100
TZNAME:CET
DTSTART:20181028T010000
END:STANDARD
END:VTIMEZONE
BEGIN:VEVENT
DTSTART;VALUE=DATE:20180320
DTEND;VALUE=DATE:20180322
DTSTAMP:20260422T140819
CREATED:20171218T102844Z
LAST-MODIFIED:20180719T130440Z
UID:2827-1521504000-1521676799@rhein-ruhr-power.net
SUMMARY:33. FDBR-Fachtagung Rohrleitungstechnik
DESCRIPTION:Die 33. FDBR-Fachtagung Rohrleitungstechnik findet am 20. und 21. März 2018 in München statt.\n \nVoranmeldungen werden ab sofort entgegengenommen. \nDie Fachtagung leistet seit ihrer Gründung einen großen Beitrag dazu\, daß die Technologie-Kompetenz in Deutschland im Dialog zwischen den in der Rohrleitungsbranche aktiven Unternehmen kommuniziert\, diskutiert und publiziert wird. Sie ist damit eine der führenden Fachtagungen zum Thema Rohrleitungsbau. \nEinmal jährlich präsentiert der FDBR  mit rund 20 Fachvorträgen Beiträge zur Betrachtung praktische Erfahrungen zum Beispiel bei der Anwendung der Druckgeräterichtlinie\, der Anwendung harmonisierter Normen und anderer Regelwerke\, sowie zahlreiche  aktuelle Berichte aus der Praxis. \nAbgerundet wird die Tagung durch eine begleitende Fachausstellung in der sich die führenden Unternehmen im Rohrleitungsbau ebenso präsentieren\, wie mittelständische Nischenanbieter und Dienstleister aus dem Software-Bereich. \nFür weitere Informationen und eine individuelle Beratung stehen wir Ihnen gerne zur Verfügung. \n\nInformieren Sie sich auch über den 2. Kongress Anlagenservice! \n\nWeitere Informationen finden Sie hier. \n   \nPremium accounts\, which get priority over paid accounts\, are available from https://college-homework-help.org $4
URL:https://rhein-ruhr-power.net/termine/33-fdbr-fachtagung-rohrleitungstechnik/2018-03-20/
LOCATION:Holiday Inn Munich-City Centre\, Hochstraße 3 \, München \, 81669
GEO:48.1303647;11.5895993
X-APPLE-STRUCTURED-LOCATION;VALUE=URI;X-ADDRESS=Holiday Inn Munich-City Centre Hochstraße 3  München  81669;X-APPLE-RADIUS=500;X-TITLE=Hochstraße 3:geo:11.5895993,48.1303647
END:VEVENT
END:VCALENDAR