BEGIN:VCALENDAR
VERSION:2.0
PRODID:-//Rhein Ruhr Power e.V. - ECPv6.0.8//NONSGML v1.0//EN
CALSCALE:GREGORIAN
METHOD:PUBLISH
X-ORIGINAL-URL:https://rhein-ruhr-power.net
X-WR-CALDESC:Veranstaltungen für Rhein Ruhr Power e.V.
REFRESH-INTERVAL;VALUE=DURATION:PT1H
X-Robots-Tag:noindex
X-PUBLISHED-TTL:PT1H
BEGIN:VTIMEZONE
TZID:Europe/Berlin
BEGIN:DAYLIGHT
TZOFFSETFROM:+0100
TZOFFSETTO:+0200
TZNAME:CEST
DTSTART:20210328T010000
END:DAYLIGHT
BEGIN:STANDARD
TZOFFSETFROM:+0200
TZOFFSETTO:+0100
TZNAME:CET
DTSTART:20211031T010000
END:STANDARD
END:VTIMEZONE
BEGIN:VEVENT
DTSTART;TZID=Europe/Berlin:20211109T110000
DTEND;TZID=Europe/Berlin:20211109T130000
DTSTAMP:20260422T111908
CREATED:20210819T151116Z
LAST-MODIFIED:20210819T151116Z
UID:5779-1636455600-1636462800@rhein-ruhr-power.net
SUMMARY:20. Mitgliederversammlung
DESCRIPTION:
URL:https://rhein-ruhr-power.net/termine/20-mitgliederversammlung/
LOCATION:Hotel Franz\, Steeler Str. 261\, Essen\, 45138
ATTACH;FMTTYPE=image/png:https://rhein-ruhr-power.net/wp/wp-content/uploads/2014/06/RRP.png
END:VEVENT
BEGIN:VEVENT
DTSTART;TZID=Europe/Berlin:20211109T140000
DTEND;TZID=Europe/Berlin:20211109T190000
DTSTAMP:20260422T111908
CREATED:20210819T151427Z
LAST-MODIFIED:20210928T080007Z
UID:5782-1636466400-1636484400@rhein-ruhr-power.net
SUMMARY:Fachveranstaltung "Projects for Future" & Jubiläumsfeier 10 Jahre RRP
DESCRIPTION:„Gemeinsam für die Energieversorgung der Zukunft“\, \ndies ist das Motto des Vereins Rhein Ruhr Power\, der seit 10 Jahren mit seinen Mitgliedsunternehmen einen starken Verbund bildet und mit seinen Projekten die Energiewende aktiv mitgestaltet. Am 9. November werden in Essen in der Fachveranstaltung „Projects for Future“ die Forschungsprojekte vorgestellt und anschließend in einer Jubiläumsfeier mit FreundInnen und Förderern auf die nächsten 10 Jahre angestoßen. \n 
URL:https://rhein-ruhr-power.net/termine/fachveranstaltung-projects-for-future/
LOCATION:Hotel Franz\, Steeler Str. 261\, Essen\, 45138
ATTACH;FMTTYPE=image/jpeg:https://rhein-ruhr-power.net/wp/wp-content/uploads/2019/07/Projects-for-Future.jpg
END:VEVENT
END:VCALENDAR