BEGIN:VCALENDAR
VERSION:2.0
PRODID:-//Rhein Ruhr Power e.V. - ECPv6.0.8//NONSGML v1.0//EN
CALSCALE:GREGORIAN
METHOD:PUBLISH
X-ORIGINAL-URL:https://rhein-ruhr-power.net
X-WR-CALDESC:Veranstaltungen für Rhein Ruhr Power e.V.
REFRESH-INTERVAL;VALUE=DURATION:PT1H
X-Robots-Tag:noindex
X-PUBLISHED-TTL:PT1H
BEGIN:VTIMEZONE
TZID:Europe/Berlin
BEGIN:DAYLIGHT
TZOFFSETFROM:+0100
TZOFFSETTO:+0200
TZNAME:CEST
DTSTART:20160327T010000
END:DAYLIGHT
BEGIN:STANDARD
TZOFFSETFROM:+0200
TZOFFSETTO:+0100
TZNAME:CET
DTSTART:20161030T010000
END:STANDARD
END:VTIMEZONE
BEGIN:VEVENT
DTSTART;VALUE=DATE:20161005
DTEND;VALUE=DATE:20161009
DTSTAMP:20260421T060736
CREATED:20160815T105423Z
LAST-MODIFIED:20180719T130753Z
UID:2344-1475625600-1475971199@rhein-ruhr-power.net
SUMMARY:ICCT 2016: International Conference on Industrial Chimneys and Cooling Towers
DESCRIPTION:Vom 5. bis 8. Oktober findet in Rotterdam die Koferenz „ICCT 2016 – International Conference on Industrial Chimneys & Cooling Towers“ statt. Das Ziel der Konferenz ist es\, Forschung und Entwicklung von Technologien aus den Bereichen industrieller Schornsteine und Kühltürme zusammen zu bringen. Organisatoren der Konferenz sind: CICIND – International Association for Industrial Chimneys\, Bergische Universität Wuppertal\, Institute Statics and Dynamics of Structures in Kooperation mit VGB PowerTech and IASS – International Association of Shell and Spatial Structures. Anmeldeschluss ist der 30. September. \nAnlagen \nEinladungsflyer \nProgramm \nWeitere Informationen zur Veranstaltung finden Sie hier.  \n\n   \nI look forward to hearing and sharing your story about facebook\, twitter\, or any other social networking tools that you or a colleague dissertation service order have used successfully in the instructional setting
URL:https://rhein-ruhr-power.net/termine/icct-2016-international-conference-on-industrial-chimneys-and-cooling-towers/2016-10-05/
END:VEVENT
BEGIN:VEVENT
DTSTART;TZID=Europe/Berlin:20161007T100000
DTEND;TZID=Europe/Berlin:20161007T130000
DTSTAMP:20260421T060736
CREATED:20170804T080507Z
LAST-MODIFIED:20180719T130436Z
UID:2765-1475834400-1475845200@rhein-ruhr-power.net
SUMMARY:10. Lenkungskreissitzung (Nur auf Einladung)
DESCRIPTION:Its a powerful tool https://justbuyessay.com for collaborative online learning and teaching
URL:https://rhein-ruhr-power.net/termine/10-lenkungskreissitzung-nur-auf-einladung/2016-10-07/
ATTACH;FMTTYPE=image/png:https://rhein-ruhr-power.net/wp/wp-content/uploads/2014/06/RRP.png
END:VEVENT
END:VCALENDAR